Workbook
Name サービス名: #REF!
Name 確認: #N/A
Name 種類: #REF!
Name 単価: #REF!
Name 単価: #REF!
Name 単価: #REF!

Sheet 【ケアハウス】別記様式２
B3: （別記様式２）
H5: =TODAY() -> 46289
B8: 八尾市長 様
G11: 所 在 地
G12: 法 人 名
G13: 代表者氏名
G15: 施 設 名
G16: 施設コード
B19: 軽費老人ホーム事務費補助金変更交付申請書
B22: 先に交付の決定を受けた令和８年度の八尾市軽費老人ホーム事務費補助金について、下記のとおり変更が生じたので、八尾市軽費老人ホーム事務費補助金交付要綱第５条の規定により、関係書類を添えて申請します。
B26: 記
C29: １ 補助金 変更後交付申請額 | F29: =別表１!C28 -> 0 | I29: 円
C30: ２ 補助金 既交付決定額 | I30: 円
C31: ３ 差引増減額 | F31: =F29-F30 -> 0 | I31: 円

Sheet 別表１
A1: 別表１ 補助金所要額調書
A4: 変更交付申請用
A6: 施 設 情 報
A8: 施設コード | B8: =【ケアハウス】別記様式２!H16 -> 0 | C8: 施設名 | D8: =【ケアハウス】別記様式２!H15 -> 0
A9: 施設形態 | B9: 選択して下さい | C9: 特定施設入所者生活介護の指定有無 | D9: 選択して下さい
A10: 軽費老人ホーム定員数 | C10: （内特定施設定員数）
A11: 前年度平均 一般入所者数 | C11: 前年度平均 特定施設入所者数
A12: 一般入所 事務費単価 （月額基準単価） | C12: 特定施設入所者生活介護 事務費単価 （月額基準単価）
A13: 生活費 設定額
A15: 職員状況 （令和８年９月時点） | B15: 基準 | C15: 配置人員 | D15: （内常勤者数）
A16: 施設長 | B16: 1 | C16: =別表4!L28 -> 0
A17: 生活相談員 | B17: 1 | C17: =別表4!L31 -> 0 | D17: =別表4!L29 -> 0
A18: 介護職員 | B18: =IF(B11>30,2,1) -> 1 | C18: =別表4!L34 -> 0 | D18: =別表4!L32 -> 0
A19: 栄養士 | B19: 1 | C19: =別表4!L37 -> 0
A20: 事務員 | B20: 1 | C20: =別表4!L40 -> 0
A22: 補 助 金 所 要 額 調 書
A24: 項目 | C24: 金額 | D24: 備考
A25: 事務費支出額 | B25: （B) | D25: 交付申請時の事務費支出額を入力してください。
A26: 事務費基準額 | B26: （C) | C26: =別表３!E86+処遇改善額!F11 -> 0 | D26: 別表３の事務費基準額の総額に、処遇改善総額（年額）を加えた額が入力されます。
A27: 事務費本人徴収額 | B27: （D) | C27: =別表３!F86+処遇改善額!F12 -> 0 | D27: 別表３の事務費本人徴収額と処遇改善額により増額した本人徴収額の合計額が入力されます。
A28: 減免額・補助所要額 | B28: （E)=（B)又は（C）ー（D) | C28: =IF(C25>C26,C26-C27,C25-C27) -> 0 | D28: (B)欄の額又は(C)欄の額のいずれか少ない方の額から(D)欄の額を減じた額が入力されます。
A30: ※ 当初予算に大きな変更があり、事務費支出額が大きく変わる場合や、職員の配置に変更があり、事務費単価の変更が見込まられる施設については、八尾市高齢介護課までご連絡下さい。

Sheet 別表２
A1: 別表2 階層別・月別利用人員内訳 | J1: 施設コード | L1: =別表１!B8 -> 0
J2: 施設名 | L2: =別表１!D8 -> 0
A4: 一般入所者分 | C4: 定員 | D4: =別表１!B10 -> 0
A6: 階層区分 | B6: 4月 | C6: 5月 | D6: 6月 | E6: ７月 | F6: ８月 | G6: ９月 | H6: 10月 | I6: 11月 | J6: 12月 | K6: １月 | L6: ２月 | M6: ３月 | N6: 計
A7: 1 | N7: =SUM(B7:M7) -> 0 | O7: 夫婦の 場合
N8: =SUM(B8:M8) -> 0
A9: 2 | N9: =SUM(B9:M9) -> 0
A10: 3 | N10: =SUM(B10:M10) -> 0
A11: 4 | N11: =SUM(B11:M11) -> 0
A12: 5 | N12: =SUM(B12:M12) -> 0
A13: 6 | N13: =SUM(B13:M13) -> 0
A14: 7 | N14: =SUM(B14:M14) -> 0
A15: 8 | N15: =SUM(B15:M15) -> 0
A16: 9 | N16: =SUM(B16:M16) -> 0
A17: 10 | N17: =SUM(B17:M17) -> 0
A18: 11 | N18: =SUM(B18:M18) -> 0
A19: 12 | N19: =SUM(B19:M19) -> 0
A20: 13 | N20: =SUM(B20:M20) -> 0
... A25: 18 | N25: =SUM(B25:M25) -> 0
A26: 計 | B26: =SUM(B7:B25) -> 0 | C26: =SUM(C7:C25) -> 0 | D26: =SUM(D7:D25) -> 0 | E26: =SUM(E7:E25) -> 0 | F26: =SUM(F7:F25) -> 0 | G26: =SUM(G7:G25) -> 0 | H26: =SUM(H7:H25) -> 0 | I26: =SUM(I7:I25) -> 0 | ... N26: =SUM(N7:N25) -> 0
A27: （注１） | B27: 各月の利用人員は、各月初日の実利用人員を記入すること。（ただし、事業開始後３ヶ月を経過した日の属する月までは、30日又は当該月の実日数で除した人員によること。）
A28: （注２） | B28: 特定施設入所者生活介護の指定を受けた施設は、（特定施設入所者分）及び（一般、特定施設入所者分）も記入すること。
A30: 特定施設入所者分 | C30: 定員 | D30: =別表１!D10 -> 0
A32: 階層区分 | B32: 4月 | C32: 5月 | D32: 6月 | E32: ７月 | F32: ８月 | G32: ９月 | H32: 10月 | I32: 11月 | J32: 12月 | K32: １月 | L32: ２月 | M32: ３月 | N32: 計
A33: 1 | N33: =SUM(B33:M33) -> 0 | O33: 夫婦の 場合
N34: =SUM(B34:M34) -> 0
A35: 2 | N35: =SUM(B35:M35) -> 0
A36: 3 | N36: =SUM(B36:M36) -> 0
A37: 4 | N37: =SUM(B37:M37) -> 0
A38: 5 | N38: =SUM(B38:M38) -> 0
A39: 6 | N39: =SUM(B39:M39) -> 0
A40: 7 | N40: =SUM(B40:M40) -> 0
A41: 8 | N41: =SUM(B41:M41) -> 0
A42: 9 | N42: =SUM(B42:M42) -> 0
A43: 10 | N43: =SUM(B43:M43) -> 0
A44: 11 | N44: =SUM(B44:M44) -> 0
A45: 12 | N45: =SUM(B45:M45) -> 0
A46: 13 | N46: =SUM(B46:M46) -> 0
... A51: 18 | N51: =SUM(B51:M51) -> 0
A52: 計 | B52: =SUM(B33:B51) -> 0 | C52: =SUM(C33:C51) -> 0 | D52: =SUM(D33:D51) -> 0 | E52: =SUM(E33:E51) -> 0 | F52: =SUM(F33:F51) -> 0 | G52: =SUM(G33:G51) -> 0 | H52: =SUM(H33:H51) -> 0 | I52: =SUM(I33:I51) -> 0 | ... N52: =SUM(N33:N51) -> 0
...

Sheet 別表３
A1: 別表3 利用料納付額及び事務費基準額内訳 | E1: 施設コード | F1: =別表１!B8 -> 0
E2: 施設名 | F2: =別表１!D8 -> 0
A4: 一般入所者分 | E4: 施設定員 | F4: =別表１!B10 -> 0
E5: 事務費（月額基準単価） | F5: =別表１!B12 -> 0
A7: 階層の区分 | B7: 単価区分別利用人員 ① | C7: 事務費分 （月額）② | D7: 事務費基準額 | F7: 事務費本人徴収額 ⑤=①×② | G7: 備考
D8: 月額③ | E8: 年額 ④=①×③
A9: 1 | B9: =別表２!N7 -> 0 | C9: =IF(J9<$F$5,J9,$F$5) -> 0 | D9: =$F$5 -> 0 | E9: =SUM(B9*D9) -> 0 | F9: =SUM(B9*C9) -> 0 | G9: 夫婦の場合 | J9: 7000
B10: =別表２!N8 -> 0 | C10: =IF(J10<$F$5,J10,$F$5) -> 0 | D10: =$F$5 -> 0 | E10: =SUM(B10*D10) -> 0 | F10: =SUM(B10*C10) -> 0 | J10: 10000
A11: 2 | B11: =別表２!N9 -> 0 | C11: =IF(J11<$F$5,J11,$F$5) -> 0 | D11: =$F$5 -> 0 | E11: =SUM(B11*D11) -> 0 | F11: =SUM(B11*C11) -> 0 | J11: 13000
A12: 3 | B12: =別表２!N10 -> 0 | C12: =IF(J12<$F$5,J12,$F$5) -> 0 | D12: =$F$5 -> 0 | E12: =SUM(B12*D12) -> 0 | F12: =SUM(B12*C12) -> 0 | J12: 16000
A13: 4 | B13: =別表２!N11 -> 0 | C13: =IF(J13<$F$5,J13,$F$5) -> 0 | D13: =$F$5 -> 0 | E13: =SUM(B13*D13) -> 0 | F13: =SUM(B13*C13) -> 0 | J13: 19000
A14: 5 | B14: =別表２!N12 -> 0 | C14: =IF(J14<$F$5,J14,$F$5) -> 0 | D14: =$F$5 -> 0 | E14: =SUM(B14*D14) -> 0 | F14: =SUM(B14*C14) -> 0 | J14: 22000
A15: 6 | B15: =別表２!N13 -> 0 | C15: =IF(J15<$F$5,J15,$F$5) -> 0 | D15: =$F$5 -> 0 | E15: =SUM(B15*D15) -> 0 | F15: =SUM(B15*C15) -> 0 | J15: 25000
A16: 7 | B16: =別表２!N14 -> 0 | C16: =IF(J16<$F$5,J16,$F$5) -> 0 | D16: =$F$5 -> 0 | E16: =SUM(B16*D16) -> 0 | F16: =SUM(B16*C16) -> 0 | J16: 30000
A17: 8 | B17: =別表２!N15 -> 0 | C17: =IF(J17<$F$5,J17,$F$5) -> 0 | D17: =$F$5 -> 0 | E17: =SUM(B17*D17) -> 0 | F17: =SUM(B17*C17) -> 0 | J17: 35000
A18: 9 | B18: =別表２!N16 -> 0 | C18: =IF(J18<$F$5,J18,$F$5) -> 0 | D18: =$F$5 -> 0 | E18: =SUM(B18*D18) -> 0 | F18: =SUM(B18*C18) -> 0 | J18: 40000
A19: 10 | B19: =別表２!N17 -> 0 | C19: =IF(J19<$F$5,J19,$F$5) -> 0 | D19: =$F$5 -> 0 | E19: =SUM(B19*D19) -> 0 | F19: =SUM(B19*C19) -> 0 | J19: 45000
A20: 11 | B20: =別表２!N18 -> 0 | C20: =IF(J20<$F$5,J20,$F$5) -> 0 | D20: =$F$5 -> 0 | E20: =SUM(B20*D20) -> 0 | F20: =SUM(B20*C20) -> 0 | J20: 50000
A21: 12 | B21: =別表２!N19 -> 0 | C21: =IF(J21<$F$5,J21,$F$5) -> 0 | D21: =$F$5 -> 0 | E21: =SUM(B21*D21) -> 0 | F21: =SUM(B21*C21) -> 0 | J21: 57000
A22: 13 | B22: =別表２!N20 -> 0 | C22: =IF(J22<$F$5,J22,$F$5) -> 0 | D22: =$F$5 -> 0 | E22: =SUM(B22*D22) -> 0 | F22: =SUM(B22*C22) -> 0 | J22: 64000
... A26: 17 | B26: =別表２!N24 -> 0 | C26: =IF(J26<$F$5,J26,$F$5) -> 0 | D26: =$F$5 -> 0 | E26: =SUM(B26*D26) -> 0 | F26: =SUM(B26*C26) -> 0 | J26: 92000
A27: 18 | B27: =別表２!N25 -> 0 | C27: =F5 -> 0 | D27: =$F$5 -> 0 | E27: =SUM(B27*D27) -> 0 | F27: =SUM(B27*C27) -> 0 | G27: サービスの提供に要する費用の全額
A28: 計 | B28: =SUM(B9:B27) -> 0 | E28: =SUM(E9:E27) -> 0 | F28: =SUM(F9:F27) -> 0
A29: (注１) | B29: 単価区分ごとに別々に記入し、「備考」欄に加算・月別等その理由を簡潔に記入すること。
A30: (注２) | B30: 特定施設入所者生活介護の指定を受けた施設は、（特定施設入所者分）及び（一般、特定施設入所者分）も記入すること。
A33: 特定施設入所者分 | E33: 施設定員 | F33: =別表１!D10 -> 0
E34: 事務費（月額基準単価） | F34: =別表１!D12 -> 0
A36: 階層の区分 | B36: 単価区分別利用人員 ① | C36: 事務費分 （月額）② | D36: 事務費基準額 | F36: 事務費本人徴収額 ⑤=①×② | G36: 備考
D37: 月額③ | E37: 年額 ④=①×③
A38: 1 | B38: =別表２!N33 -> 0 | C38: =IF(J9<$F$34,J9,$F$34) -> 0 | D38: =$F$34 -> 0 | E38: =SUM(B38*D38) -> 0 | F38: =SUM(B38*C38) -> 0 | G38: 夫婦の場合
B39: =別表２!N34 -> 0 | C39: =IF(J10<$F$34,J10,$F$34) -> 0 | D39: =$F$34 -> 0 | E39: =SUM(B39*D39) -> 0 | F39: =SUM(B39*C39) -> 0
A40: 2 | B40: =別表２!N35 -> 0 | C40: =IF(J11<$F$34,J11,$F$34) -> 0 | D40: =$F$34 -> 0 | E40: =SUM(B40*D40) -> 0 | F40: =SUM(B40*C40) -> 0
A41: 3 | B41: =別表２!N36 -> 0 | C41: =IF(J12<$F$34,J12,$F$34) -> 0 | D41: =$F$34 -> 0 | E41: =SUM(B41*D41) -> 0 | F41: =SUM(B41*C41) -> 0
A42: 4 | B42: =別表２!N37 -> 0 | C42: =IF(J13<$F$34,J13,$F$34) -> 0 | D42: =$F$34 -> 0 | E42: =SUM(B42*D42) -> 0 | F42: =SUM(B42*C42) -> 0
A43: 5 | B43: =別表２!N38 -> 0 | C43: =IF(J14<$F$34,J14,$F$34) -> 0 | D43: =$F$34 -> 0 | E43: =SUM(B43*D43) -> 0 | F43: =SUM(B43*C43) -> 0
A44: 6 | B44: =別表２!N39 -> 0 | C44: =IF(J15<$F$34,J15,$F$34) -> 0 | D44: =$F$34 -> 0 | E44: =SUM(B44*D44) -> 0 | F44: =SUM(B44*C44) -> 0
A45: 7 | B45: =別表２!N40 -> 0 | C45: =IF(J16<$F$34,J16,$F$34) -> 0 | D45: =$F$34 -> 0 | E45: =SUM(B45*D45) -> 0 | F45: =SUM(B45*C45) -> 0
A46: 8 | B46: =別表２!N41 -> 0 | C46: =IF(J17<$F$34,J17,$F$34) -> 0 | D46: =$F$34 -> 0 | E46: =SUM(B46*D46) -> 0 | F46: =SUM(B46*C46) -> 0
A47: 9 | B47: =別表２!N42 -> 0 | C47: =IF(J18<$F$34,J18,$F$34) -> 0 | D47: =$F$34 -> 0 | E47: =SUM(B47*D47) -> 0 | F47: =SUM(B47*C47) -> 0
A48: 10 | B48: =別表２!N43 -> 0 | C48: =IF(J19<$F$34,J19,$F$34) -> 0 | D48: =$F$34 -> 0 | E48: =SUM(B48*D48) -> 0 | F48: =SUM(B48*C48) -> 0
...

Sheet 別表4
A1: 別表4：職員の状況表 | N1: 施設コード | P1: =別表１!B8 -> 0
N2: 施設名 | P2: =別表１!D8 -> 0
P4: （常勤換算にて入力）
A5: 職種 | B5: 氏名 | C5: 常勤 非常勤 | D5: 兼務関係 | E5: 勤務開始日 | F5: 異動日 勤務終了日 | G5: R８年 | P5: R９年
G6: ４月 | H6: ５月 | I6: ６月 | J6: ７月 | K6: ８月 | L6: ９月 | M6: １０月 | N6: １１月 | O6: １２月 | P6: １月 | Q6: ２月 | R6: ３月
A7: 施設長
A8: 生活相談員
A9: 介護職員
A10: 介護職員
A11: 栄養士
A12: 事務員
A13: 調理員その他の職員
A28: ＜全職員（介護職員含む）＞ | E28: 施設長 | G28: =SUMIF($A$7:$A$26,E28,G7:G26) -> 0 | H28: =SUMIF($A$7:$A$26,E28,H7:H26) -> 0 | I28: =SUMIF($A$7:$A$26,E28,I7:I26) -> 0 | J28: =SUMIF($A$7:$A$26,E28,J7:J26) -> 0 | K28: =SUMIF($A$7:$A$26,E28,K7:K26) -> 0 | L28: =SUMIF($A$7:$A$26,E28,L7:L26) -> 0 | M28: =SUMIF($A$7:$A$26,E28,M7:M26) -> 0 | N28: =SUMIF($A$7:$A$26,E28,N7:N26) -> 0 | O28: =SUMIF($A$7:$A$26,E28,O7:O26) -> 0 | P28: =SUMIF($A$7:$A$26,E28,P7:P26) -> 0 | Q28: =SUMIF($A$7:$A$26,E28,Q7:Q26) -> 0 | R28: =SUMIF($A$7:$A$26,E28,R7:R26) -> 0 | S28: 0
A29: 年間職員数（常勤換算） | C29: =SUM(G28:R28,G31:R31,G34:R34,G37:R37,G40:R40,G43:R43) -> 0 | E29: 生活相談員 | F29: 常勤 | G29: =SUMIFS(G7:G26,$A$7:$A$26,$E$29,$C$7:$C$26,$F$29) -> 0 | H29: =SUMIFS(H7:H26,$A$7:$A$26,$E$29,$C$7:$C$26,$F$29) -> 0 | I29: =SUMIFS(I7:I26,$A$7:$A$26,$E$29,$C$7:$C$26,$F$29) -> 0 | J29: =SUMIFS(J7:J26,$A$7:$A$26,$E$29,$C$7:$C$26,$F$29) -> 0 | K29: =SUMIFS(K7:K26,$A$7:$A$26,$E$29,$C$7:$C$26,$F$29) -> 0 | L29: =SUMIFS(L7:L26,$A$7:$A$26,$E$29,$C$7:$C$26,$F$29) -> 0 | M29: =SUMIFS(M7:M26,$A$7:$A$26,$E$29,$C$7:$C$26,$F$29) -> 0 | N29: =SUMIFS(N7:N26,$A$7:$A$26,$E$29,$C$7:$C$26,$F$29) -> 0 | ... R29: =SUMIFS(R7:R26,$A$7:$A$26,$E$29,$C$7:$C$26,$F$29) -> 0 | S29: 0.1
A30: 月平均職員数（常勤換算） | C30: =C29/12 -> 0 | F30: 非常勤 | G30: =SUMIFS(G7:G26,$A$7:$A$26,$E$29,$C$7:$C$26,$F$30) -> 0 | H30: =SUMIFS(H7:H26,$A$7:$A$26,$E$29,$C$7:$C$26,$F$30) -> 0 | I30: =SUMIFS(I7:I26,$A$7:$A$26,$E$29,$C$7:$C$26,$F$30) -> 0 | J30: =SUMIFS(J7:J26,$A$7:$A$26,$E$29,$C$7:$C$26,$F$30) -> 0 | K30: =SUMIFS(K7:K26,$A$7:$A$26,$E$29,$C$7:$C$26,$F$30) -> 0 | L30: =SUMIFS(L7:L26,$A$7:$A$26,$E$29,$C$7:$C$26,$F$30) -> 0 | M30: =SUMIFS(M7:M26,$A$7:$A$26,$E$29,$C$7:$C$26,$F$30) -> 0 | N30: =SUMIFS(N7:N26,$A$7:$A$26,$E$29,$C$7:$C$26,$F$30) -> 0 | ... R30: =SUMIFS(R7:R26,$A$7:$A$26,$E$29,$C$7:$C$26,$F$30) -> 0 | S30: 0.2
F31: 計 | G31: =G29+G30 -> 0 | H31: =H29+H30 -> 0 | I31: =I29+I30 -> 0 | J31: =J29+J30 -> 0 | K31: =K29+K30 -> 0 | L31: =L29+L30 -> 0 | M31: =M29+M30 -> 0 | N31: =N29+N30 -> 0 | ... R31: =R29+R30 -> 0 | S31: 0.3
A32: ＜介護職員＞ | E32: 介護職員 | F32: 常勤 | G32: =SUMIFS(G7:G26,$A$7:$A$26,$E$32,$C$7:$C$26,$F$32) -> 0 | H32: =SUMIFS(H7:H26,$A$7:$A$26,$E$32,$C$7:$C$26,$F$32) -> 0 | I32: =SUMIFS(I7:I26,$A$7:$A$26,$E$32,$C$7:$C$26,$F$32) -> 0 | J32: =SUMIFS(J7:J26,$A$7:$A$26,$E$32,$C$7:$C$26,$F$32) -> 0 | K32: =SUMIFS(K7:K26,$A$7:$A$26,$E$32,$C$7:$C$26,$F$32) -> 0 | L32: =SUMIFS(L7:L26,$A$7:$A$26,$E$32,$C$7:$C$26,$F$32) -> 0 | M32: =SUMIFS(M7:M26,$A$7:$A$26,$E$32,$C$7:$C$26,$F$32) -> 0 | N32: =SUMIFS(N7:N26,$A$7:$A$26,$E$32,$C$7:$C$26,$F$32) -> 0 | ... R32: =SUMIFS(R7:R26,$A$7:$A$26,$E$32,$C$7:$C$26,$F$32) -> 0 | S32: 0.4
A33: 年間介護職員数（常勤換算） | C33: =SUM(G34:R34) -> 0 | F33: 非常勤 | G33: =SUMIFS(G7:G26,$A$7:$A$26,$E$32,$C$7:$C$26,$F$33) -> 0 | H33: =SUMIFS(H7:H26,$A$7:$A$26,$E$32,$C$7:$C$26,$F$33) -> 0 | I33: =SUMIFS(I7:I26,$A$7:$A$26,$E$32,$C$7:$C$26,$F$33) -> 0 | J33: =SUMIFS(J7:J26,$A$7:$A$26,$E$32,$C$7:$C$26,$F$33) -> 0 | K33: =SUMIFS(K7:K26,$A$7:$A$26,$E$32,$C$7:$C$26,$F$33) -> 0 | L33: =SUMIFS(L7:L26,$A$7:$A$26,$E$32,$C$7:$C$26,$F$33) -> 0 | M33: =SUMIFS(M7:M26,$A$7:$A$26,$E$32,$C$7:$C$26,$F$33) -> 0 | N33: =SUMIFS(N7:N26,$A$7:$A$26,$E$32,$C$7:$C$26,$F$33) -> 0 | ... R33: =SUMIFS(R7:R26,$A$7:$A$26,$E$32,$C$7:$C$26,$F$33) -> 0 | S33: 0.5
A34: 月平均介護職員数（常勤換算） | C34: =C33/12 -> 0 | F34: 計 | G34: =G32+G33 -> 0 | H34: =H32+H33 -> 0 | I34: =I32+I33 -> 0 | J34: =J32+J33 -> 0 | K34: =K32+K33 -> 0 | L34: =L32+L33 -> 0 | M34: =M32+M33 -> 0 | N34: =N32+N33 -> 0 | ... R34: =R32+R33 -> 0 | S34: 0.6
E35: 栄養士 | F35: 常勤 | G35: =SUMIFS(G7:G26,$A$7:$A$26,$E$35,$C$7:$C$26,$F$35) -> 0 | H35: =SUMIFS(H7:H26,$A$7:$A$26,$E$35,$C$7:$C$26,$F$35) -> 0 | I35: =SUMIFS(I7:I26,$A$7:$A$26,$E$35,$C$7:$C$26,$F$35) -> 0 | J35: =SUMIFS(J7:J26,$A$7:$A$26,$E$35,$C$7:$C$26,$F$35) -> 0 | K35: =SUMIFS(K7:K26,$A$7:$A$26,$E$35,$C$7:$C$26,$F$35) -> 0 | L35: =SUMIFS(L7:L26,$A$7:$A$26,$E$35,$C$7:$C$26,$F$35) -> 0 | M35: =SUMIFS(M7:M26,$A$7:$A$26,$E$35,$C$7:$C$26,$F$35) -> 0 | N35: =SUMIFS(N7:N26,$A$7:$A$26,$E$35,$C$7:$C$26,$F$35) -> 0 | ... R35: =SUMIFS(R7:R26,$A$7:$A$26,$E$35,$C$7:$C$26,$F$35) -> 0 | S35: 0.7
A36: ＜介護職員除く職員数＞ | F36: 非常勤 | G36: =SUMIFS(G7:G26,$A$7:$A$26,$E$35,$C$7:$C$26,$F$36) -> 0 | H36: =SUMIFS(H7:H26,$A$7:$A$26,$E$35,$C$7:$C$26,$F$36) -> 0 | I36: =SUMIFS(I7:I26,$A$7:$A$26,$E$35,$C$7:$C$26,$F$36) -> 0 | J36: =SUMIFS(J7:J26,$A$7:$A$26,$E$35,$C$7:$C$26,$F$36) -> 0 | K36: =SUMIFS(K7:K26,$A$7:$A$26,$E$35,$C$7:$C$26,$F$36) -> 0 | L36: =SUMIFS(L7:L26,$A$7:$A$26,$E$35,$C$7:$C$26,$F$36) -> 0 | M36: =SUMIFS(M7:M26,$A$7:$A$26,$E$35,$C$7:$C$26,$F$36) -> 0 | N36: =SUMIFS(N7:N26,$A$7:$A$26,$E$35,$C$7:$C$26,$F$36) -> 0 | ... R36: =SUMIFS(R7:R26,$A$7:$A$26,$E$35,$C$7:$C$26,$F$36) -> 0 | S36: 0.8
A37: 年間職員数（常勤換算） | C37: =SUM(G28:R28,G31:R31,G37:R37,G40:R40,G43:R43) -> 0 | F37: 計 | G37: =G35+G36 -> 0 | H37: =H35+H36 -> 0 | I37: =I35+I36 -> 0 | J37: =J35+J36 -> 0 | K37: =K35+K36 -> 0 | L37: =L35+L36 -> 0 | M37: =M35+M36 -> 0 | N37: =N35+N36 -> 0 | ... R37: =R35+R36 -> 0 | S37: 0.9
A38: 月平均職員数（常勤換算） | C38: =C37/12 -> 0 | E38: 事務員 | F38: 常勤 | G38: =SUMIFS(G7:G26,$A$7:$A$26,$E$38,$C$7:$C$26,$F$38) -> 0 | H38: =SUMIFS(H7:H26,$A$7:$A$26,$E$38,$C$7:$C$26,$F$38) -> 0 | I38: =SUMIFS(I7:I26,$A$7:$A$26,$E$38,$C$7:$C$26,$F$38) -> 0 | J38: =SUMIFS(J7:J26,$A$7:$A$26,$E$38,$C$7:$C$26,$F$38) -> 0 | K38: =SUMIFS(K7:K26,$A$7:$A$26,$E$38,$C$7:$C$26,$F$38) -> 0 | L38: =SUMIFS(L7:L26,$A$7:$A$26,$E$38,$C$7:$C$26,$F$38) -> 0 | M38: =SUMIFS(M7:M26,$A$7:$A$26,$E$38,$C$7:$C$26,$F$38) -> 0 | N38: =SUMIFS(N7:N26,$A$7:$A$26,$E$38,$C$7:$C$26,$F$38) -> 0 | ... R38: =SUMIFS(R7:R26,$A$7:$A$26,$E$38,$C$7:$C$26,$F$38) -> 0 | S38: 1
F39: 非常勤 | G39: =SUMIFS(G7:G26,$A$7:$A$26,$E$38,$C$7:$C$26,$F$39) -> 0 | H39: =SUMIFS(H7:H26,$A$7:$A$26,$E$38,$C$7:$C$26,$F$39) -> 0 | I39: =SUMIFS(I7:I26,$A$7:$A$26,$E$38,$C$7:$C$26,$F$39) -> 0 | J39: =SUMIFS(J7:J26,$A$7:$A$26,$E$38,$C$7:$C$26,$F$39) -> 0 | K39: =SUMIFS(K7:K26,$A$7:$A$26,$E$38,$C$7:$C$26,$F$39) -> 0 | L39: =SUMIFS(L7:L26,$A$7:$A$26,$E$38,$C$7:$C$26,$F$39) -> 0 | M39: =SUMIFS(M7:M26,$A$7:$A$26,$E$38,$C$7:$C$26,$F$39) -> 0 | N39: =SUMIFS(N7:N26,$A$7:$A$26,$E$38,$C$7:$C$26,$F$39) -> 0 | ... R39: =SUMIFS(R7:R26,$A$7:$A$26,$E$38,$C$7:$C$26,$F$39) -> 0
F40: 計 | G40: =G38+G39 -> 0 | H40: =H38+H39 -> 0 | I40: =I38+I39 -> 0 | J40: =J38+J39 -> 0 | K40: =K38+K39 -> 0 | L40: =L38+L39 -> 0 | M40: =M38+M39 -> 0 | N40: =N38+N39 -> 0 | ... R40: =R38+R39 -> 0
E41: 調理員その他の職員 | F41: 常勤 | G41: =SUMIFS(G7:G26,$A$7:$A$26,$E$41,$C$7:$C$26,$F$41) -> 0 | H41: =SUMIFS(H7:H26,$A$7:$A$26,$E$41,$C$7:$C$26,$F$41) -> 0 | I41: =SUMIFS(I7:I26,$A$7:$A$26,$E$41,$C$7:$C$26,$F$41) -> 0 | J41: =SUMIFS(J7:J26,$A$7:$A$26,$E$41,$C$7:$C$26,$F$41) -> 0 | K41: =SUMIFS(K7:K26,$A$7:$A$26,$E$41,$C$7:$C$26,$F$41) -> 0 | L41: =SUMIFS(L7:L26,$A$7:$A$26,$E$41,$C$7:$C$26,$F$41) -> 0 | M41: =SUMIFS(M7:M26,$A$7:$A$26,$E$41,$C$7:$C$26,$F$41) -> 0 | N41: =SUMIFS(N7:N26,$A$7:$A$26,$E$41,$C$7:$C$26,$F$41) -> 0 | ... R41: =SUMIFS(R7:R26,$A$7:$A$26,$E$41,$C$7:$C$26,$F$41) -> 0
F42: 非常勤 | G42: =SUMIFS(G7:G26,$A$7:$A$26,$E$41,$C$7:$C$26,$F$42) -> 0 | H42: =SUMIFS(H7:H26,$A$7:$A$26,$E$41,$C$7:$C$26,$F$42) -> 0 | I42: =SUMIFS(I7:I26,$A$7:$A$26,$E$41,$C$7:$C$26,$F$42) -> 0 | J42: =SUMIFS(J7:J26,$A$7:$A$26,$E$41,$C$7:$C$26,$F$42) -> 0 | K42: =SUMIFS(K7:K26,$A$7:$A$26,$E$41,$C$7:$C$26,$F$42) -> 0 | L42: =SUMIFS(L7:L26,$A$7:$A$26,$E$41,$C$7:$C$26,$F$42) -> 0 | M42: =SUMIFS(M7:M26,$A$7:$A$26,$E$41,$C$7:$C$26,$F$42) -> 0 | N42: =SUMIFS(N7:N26,$A$7:$A$26,$E$41,$C$7:$C$26,$F$42) -> 0 | ... R42: =SUMIFS(R7:R26,$A$7:$A$26,$E$41,$C$7:$C$26,$F$42) -> 0
F43: 計 | G43: =G41+G42 -> 0 | H43: =H41+H42 -> 0 | I43: =I41+I42 -> 0 | J43: =J41+J42 -> 0 | K43: =K41+K42 -> 0 | L43: =L41+L42 -> 0 | M43: =M41+M42 -> 0 | N43: =N41+N42 -> 0 | ... R43: =R41+R42 -> 0

Sheet 処遇改善計画書
H5: =TODAY() -> 46289
B8: 八尾市長 様
F11: 所 在 地 | G11: =【ケアハウス】別記様式２!H11 -> 0
F12: 法 人 名 | G12: =【ケアハウス】別記様式２!H12 -> 0
F13: 代表者氏名 | G13: =【ケアハウス】別記様式２!H13 -> 0
F15: 施 設 名 | G15: =【ケアハウス】別記様式２!H15 -> 0
F16: 施設コード | G16: =【ケアハウス】別記様式２!H16 -> 0
A21: 軽費老人ホーム処遇改善計画書
C24: 令和８年度に実施する処遇改善について計画書を提出いたします。
F27: 記
D30: 加算１：介護職員１人当たり9,000円
D32: 加算２：サービスの提供に要する費用×1.16％
D34: 加算３：職員１人当たり10,000円（令和８年４月～令和８年９月）
D35: 介護職員１人当たり9,000円（令和８年４月～令和８年９月）
D37: 加算４：職員１人当たり10,000円（令和８年６月～）
D38: 介護職員１人当たり9,000円（令和８年６月～）
C41: 実施する処遇改善に✓を入れてください。

Sheet 処遇改善額
A1: 処遇改善を実施する場合は、下記【１】から【３】をご入力ください。 | G1: 施設コード | H1: =【ケアハウス】別記様式２!H16 -> 0
G2: 施設名 | H2: =【ケアハウス】別記様式２!H15 -> 0
A3: 【１】申請する処遇改善加算は「１」、申請しないものは「0」と入力してください
A4: 各加算の内容は、八尾市軽費老人ホーム利用料等取扱基準の別表の「３．処遇改善に伴い軽費老人ホームのサービスの提供に要する基本額（月額）に加算する額」をご確認ください。
A5: 0:申請しない 1:申請する | C5: 処遇改善額(月額） | E5: 対象入所者１人当たりの処遇改善額
A6: 0 | B6: 加算1 | C6: =IF(A6=1,9000*別表4!C33/12,0) -> 0 | E6: =ROUNDDOWN(C6/(別表３!$B$28/12),0) -> #DIV/0!
A7: 0 | B7: 加算2 | C7: =IF(A7=1,ROUNDDOWN((別表３!E28+処遇改善額!C6*12)*0.0116/12,0),0) -> 0 | E7: =ROUNDDOWN(C7/(別表３!$B$28/12),0) -> #DIV/0!
A8: 0 | B8: 加算3(令和8年9月まで） | C8: =IF(A8=1,(10000*(別表4!C29)/12)+(9000*別表4!C33/12),0) -> 0 | E8: =ROUNDDOWN(C8/(別表３!$B$28/12),0) -> #DIV/0!
A9: 0 | B9: 加算4（令和8年6月から） | C9: =IF(A9=1,(10000*(別表4!C29)/12)+(9000*別表4!C33/12),0) -> 0 | E9: =ROUNDDOWN(C9/(別表３!$B$28/12),0) -> #DIV/0!
A11: 処遇改善総額（年額） | F11: =$C$6*12+$C$7*12+$C$8*6+$C$9*10 -> 0
A12: 処遇改善により増額された本人徴収額の合計額（年額） | F12: =SUM($D$41+$F$41+$H$41) -> 0
A13: 【２】処遇改善見込総額（年額） 実際に支給する処遇改善額の総額（見込み）を入力してください。金額は処遇改善総額（年額）を超えるように設定してください。
A14: 【３】処遇改善額の支給方法 あてはまるものに✓をつけてください | D14: 基本給 | F14: 手当（新設） | H14: 手当（既存）
D15: 賞与 | F15: その他 （ ）
A17: （参考）処遇改善により増額された本人徴収額（月額）
A18: 一般入所者分
A19: 階層 区分 | C19: 利用人数 | D19: 処遇改善 本人徴収額 | E19: 利用人数 | F19: 処遇改善 本人徴収額 | G19: 利用人数 | H19: 処遇改善 本人徴収額
C21: 4月-5月 | D21: 4月-5月 | E21: 6月-9月 | F21: 6月-9月 | G21: 10月-3月 | H21: 10月-3月
A22: 1 | B22: 7000 | C22: =SUM(別表２!B7:C7) -> 0 | D22: =IF(別表１!$B$12=0,0,IF(B22<=別表１!$B$12,0,IF(別表１!$B$12+($E$6+$E$7+$E$8)-B22>0,B22-別表１!$B$12,($E$6+$E$7+$E$8)))) -> 0 | E22: =SUM(別表２!D7:G7) -> 0 | F22: =IF(別表１!$B$12=0,0,IF($B22<=別表１!$B$12,0,IF(別表１!$B$12+($E$6+$E$7+$E$8+$E$9)-$B22>0,$B22-別表１!$B$12,($E$6+$E$7+$E$8+$E$9)))) -> 0 | G22: =SUM(別表２!H7:M7) -> 0 | H22: =IF(別表１!$B$12=0,0,IF($B22<=別表１!$B$12,0,IF(別表１!$B$12+($E$6+$E$7+$E$9)-$B22>0,$B22-別表１!$B$12,($E$6+$E$7+$E$9)))) -> 0
B23: 10000 | C23: =SUM(別表２!B8:C8) -> 0 | D23: =IF(別表１!$B$12=0,0,IF(B23<=別表１!$B$12,0,IF(別表１!$B$12+($E$6+$E$7+$E$8)-B23>0,B23-別表１!$B$12,($E$6+$E$7+$E$8)))) -> 0 | E23: =SUM(別表２!D8:G8) -> 0 | F23: =IF(別表１!$B$12=0,0,IF($B23<=別表１!$B$12,0,IF(別表１!$B$12+($E$6+$E$7+$E$8+$E$9)-$B23>0,$B23-別表１!$B$12,($E$6+$E$7+$E$8+$E$9)))) -> 0 | G23: =SUM(別表２!H8:M8) -> 0 | H23: =IF(別表１!$B$12=0,0,IF($B23<=別表１!$B$12,0,IF(別表１!$B$12+($E$6+$E$7+$E$9)-$B23>0,$B23-別表１!$B$12,($E$6+$E$7+$E$9)))) -> 0
A24: 2 | B24: 13000 | C24: =SUM(別表２!B9:C9) -> 0 | D24: =IF(別表１!$B$12=0,0,IF(B24<=別表１!$B$12,0,IF(別表１!$B$12+($E$6+$E$7+$E$8)-B24>0,B24-別表１!$B$12,($E$6+$E$7+$E$8)))) -> 0 | E24: =SUM(別表２!D9:G9) -> 0 | F24: =IF(別表１!$B$12=0,0,IF($B24<=別表１!$B$12,0,IF(別表１!$B$12+($E$6+$E$7+$E$8+$E$9)-$B24>0,$B24-別表１!$B$12,($E$6+$E$7+$E$8+$E$9)))) -> 0 | G24: =SUM(別表２!H9:M9) -> 0 | H24: =IF(別表１!$B$12=0,0,IF($B24<=別表１!$B$12,0,IF(別表１!$B$12+($E$6+$E$7+$E$9)-$B24>0,$B24-別表１!$B$12,($E$6+$E$7+$E$9)))) -> 0
A25: 3 | B25: 16000 | C25: =SUM(別表２!B10:C10) -> 0 | D25: =IF(別表１!$B$12=0,0,IF(B25<=別表１!$B$12,0,IF(別表１!$B$12+($E$6+$E$7+$E$8)-B25>0,B25-別表１!$B$12,($E$6+$E$7+$E$8)))) -> 0 | E25: =SUM(別表２!D10:G10) -> 0 | F25: =IF(別表１!$B$12=0,0,IF($B25<=別表１!$B$12,0,IF(別表１!$B$12+($E$6+$E$7+$E$8+$E$9)-$B25>0,$B25-別表１!$B$12,($E$6+$E$7+$E$8+$E$9)))) -> 0 | G25: =SUM(別表２!H10:M10) -> 0 | H25: =IF(別表１!$B$12=0,0,IF($B25<=別表１!$B$12,0,IF(別表１!$B$12+($E$6+$E$7+$E$9)-$B25>0,$B25-別表１!$B$12,($E$6+$E$7+$E$9)))) -> 0
A26: 4 | B26: 19000 | C26: =SUM(別表２!B11:C11) -> 0 | D26: =IF(別表１!$B$12=0,0,IF(B26<=別表１!$B$12,0,IF(別表１!$B$12+($E$6+$E$7+$E$8)-B26>0,B26-別表１!$B$12,($E$6+$E$7+$E$8)))) -> 0 | E26: =SUM(別表２!D11:G11) -> 0 | F26: =IF(別表１!$B$12=0,0,IF($B26<=別表１!$B$12,0,IF(別表１!$B$12+($E$6+$E$7+$E$8+$E$9)-$B26>0,$B26-別表１!$B$12,($E$6+$E$7+$E$8+$E$9)))) -> 0 | G26: =SUM(別表２!H11:M11) -> 0 | H26: =IF(別表１!$B$12=0,0,IF($B26<=別表１!$B$12,0,IF(別表１!$B$12+($E$6+$E$7+$E$9)-$B26>0,$B26-別表１!$B$12,($E$6+$E$7+$E$9)))) -> 0
A27: 5 | B27: 22000 | C27: =SUM(別表２!B12:C12) -> 0 | D27: =IF(別表１!$B$12=0,0,IF(B27<=別表１!$B$12,0,IF(別表１!$B$12+($E$6+$E$7+$E$8)-B27>0,B27-別表１!$B$12,($E$6+$E$7+$E$8)))) -> 0 | E27: =SUM(別表２!D12:G12) -> 0 | F27: =IF(別表１!$B$12=0,0,IF($B27<=別表１!$B$12,0,IF(別表１!$B$12+($E$6+$E$7+$E$8+$E$9)-$B27>0,$B27-別表１!$B$12,($E$6+$E$7+$E$8+$E$9)))) -> 0 | G27: =SUM(別表２!H12:M12) -> 0 | H27: =IF(別表１!$B$12=0,0,IF($B27<=別表１!$B$12,0,IF(別表１!$B$12+($E$6+$E$7+$E$9)-$B27>0,$B27-別表１!$B$12,($E$6+$E$7+$E$9)))) -> 0
A28: 6 | B28: 25000 | C28: =SUM(別表２!B13:C13) -> 0 | D28: =IF(別表１!$B$12=0,0,IF(B28<=別表１!$B$12,0,IF(別表１!$B$12+($E$6+$E$7+$E$8)-B28>0,B28-別表１!$B$12,($E$6+$E$7+$E$8)))) -> 0 | E28: =SUM(別表２!D13:G13) -> 0 | F28: =IF(別表１!$B$12=0,0,IF($B28<=別表１!$B$12,0,IF(別表１!$B$12+($E$6+$E$7+$E$8+$E$9)-$B28>0,$B28-別表１!$B$12,($E$6+$E$7+$E$8+$E$9)))) -> 0 | G28: =SUM(別表２!H13:M13) -> 0 | H28: =IF(別表１!$B$12=0,0,IF($B28<=別表１!$B$12,0,IF(別表１!$B$12+($E$6+$E$7+$E$9)-$B28>0,$B28-別表１!$B$12,($E$6+$E$7+$E$9)))) -> 0
A29: 7 | B29: 30000 | C29: =SUM(別表２!B14:C14) -> 0 | D29: =IF(別表１!$B$12=0,0,IF(B29<=別表１!$B$12,0,IF(別表１!$B$12+($E$6+$E$7+$E$8)-B29>0,B29-別表１!$B$12,($E$6+$E$7+$E$8)))) -> 0 | E29: =SUM(別表２!D14:G14) -> 0 | F29: =IF(別表１!$B$12=0,0,IF($B29<=別表１!$B$12,0,IF(別表１!$B$12+($E$6+$E$7+$E$8+$E$9)-$B29>0,$B29-別表１!$B$12,($E$6+$E$7+$E$8+$E$9)))) -> 0 | G29: =SUM(別表２!H14:M14) -> 0 | H29: =IF(別表１!$B$12=0,0,IF($B29<=別表１!$B$12,0,IF(別表１!$B$12+($E$6+$E$7+$E$9)-$B29>0,$B29-別表１!$B$12,($E$6+$E$7+$E$9)))) -> 0
A30: 8 | B30: 35000 | C30: =SUM(別表２!B15:C15) -> 0 | D30: =IF(別表１!$B$12=0,0,IF(B30<=別表１!$B$12,0,IF(別表１!$B$12+($E$6+$E$7+$E$8)-B30>0,B30-別表１!$B$12,($E$6+$E$7+$E$8)))) -> 0 | E30: =SUM(別表２!D15:G15) -> 0 | F30: =IF(別表１!$B$12=0,0,IF($B30<=別表１!$B$12,0,IF(別表１!$B$12+($E$6+$E$7+$E$8+$E$9)-$B30>0,$B30-別表１!$B$12,($E$6+$E$7+$E$8+$E$9)))) -> 0 | G30: =SUM(別表２!H15:M15) -> 0 | H30: =IF(別表１!$B$12=0,0,IF($B30<=別表１!$B$12,0,IF(別表１!$B$12+($E$6+$E$7+$E$9)-$B30>0,$B30-別表１!$B$12,($E$6+$E$7+$E$9)))) -> 0
A31: 9 | B31: 40000 | C31: =SUM(別表２!B16:C16) -> 0 | D31: =IF(別表１!$B$12=0,0,IF(B31<=別表１!$B$12,0,IF(別表１!$B$12+($E$6+$E$7+$E$8)-B31>0,B31-別表１!$B$12,($E$6+$E$7+$E$8)))) -> 0 | E31: =SUM(別表２!D16:G16) -> 0 | F31: =IF(別表１!$B$12=0,0,IF($B31<=別表１!$B$12,0,IF(別表１!$B$12+($E$6+$E$7+$E$8+$E$9)-$B31>0,$B31-別表１!$B$12,($E$6+$E$7+$E$8+$E$9)))) -> 0 | G31: =SUM(別表２!H16:M16) -> 0 | H31: =IF(別表１!$B$12=0,0,IF($B31<=別表１!$B$12,0,IF(別表１!$B$12+($E$6+$E$7+$E$9)-$B31>0,$B31-別表１!$B$12,($E$6+$E$7+$E$9)))) -> 0
A32: 10 | B32: 45000 | C32: =SUM(別表２!B17:C17) -> 0 | D32: =IF(別表１!$B$12=0,0,IF(B32<=別表１!$B$12,0,IF(別表１!$B$12+($E$6+$E$7+$E$8)-B32>0,B32-別表１!$B$12,($E$6+$E$7+$E$8)))) -> 0 | E32: =SUM(別表２!D17:G17) -> 0 | F32: =IF(別表１!$B$12=0,0,IF($B32<=別表１!$B$12,0,IF(別表１!$B$12+($E$6+$E$7+$E$8+$E$9)-$B32>0,$B32-別表１!$B$12,($E$6+$E$7+$E$8+$E$9)))) -> 0 | G32: =SUM(別表２!H17:M17) -> 0 | H32: =IF(別表１!$B$12=0,0,IF($B32<=別表１!$B$12,0,IF(別表１!$B$12+($E$6+$E$7+$E$9)-$B32>0,$B32-別表１!$B$12,($E$6+$E$7+$E$9)))) -> 0
A33: 11 | B33: 50000 | C33: =SUM(別表２!B18:C18) -> 0 | D33: =IF(別表１!$B$12=0,0,IF(B33<=別表１!$B$12,0,IF(別表１!$B$12+($E$6+$E$7+$E$8)-B33>0,B33-別表１!$B$12,($E$6+$E$7+$E$8)))) -> 0 | E33: =SUM(別表２!D18:G18) -> 0 | F33: =IF(別表１!$B$12=0,0,IF($B33<=別表１!$B$12,0,IF(別表１!$B$12+($E$6+$E$7+$E$8+$E$9)-$B33>0,$B33-別表１!$B$12,($E$6+$E$7+$E$8+$E$9)))) -> 0 | G33: =SUM(別表２!H18:M18) -> 0 | H33: =IF(別表１!$B$12=0,0,IF($B33<=別表１!$B$12,0,IF(別表１!$B$12+($E$6+$E$7+$E$9)-$B33>0,$B33-別表１!$B$12,($E$6+$E$7+$E$9)))) -> 0
A34: 12 | B34: 57000 | C34: =SUM(別表２!B19:C19) -> 0 | D34: =IF(別表１!$B$12=0,0,IF(B34<=別表１!$B$12,0,IF(別表１!$B$12+($E$6+$E$7+$E$8)-B34>0,B34-別表１!$B$12,($E$6+$E$7+$E$8)))) -> 0 | E34: =SUM(別表２!D19:G19) -> 0 | F34: =IF(別表１!$B$12=0,0,IF($B34<=別表１!$B$12,0,IF(別表１!$B$12+($E$6+$E$7+$E$8+$E$9)-$B34>0,$B34-別表１!$B$12,($E$6+$E$7+$E$8+$E$9)))) -> 0 | G34: =SUM(別表２!H19:M19) -> 0 | H34: =IF(別表１!$B$12=0,0,IF($B34<=別表１!$B$12,0,IF(別表１!$B$12+($E$6+$E$7+$E$9)-$B34>0,$B34-別表１!$B$12,($E$6+$E$7+$E$9)))) -> 0
A35: 13 | B35: 64000 | C35: =SUM(別表２!B20:C20) -> 0 | D35: =IF(別表１!$B$12=0,0,IF(B35<=別表１!$B$12,0,IF(別表１!$B$12+($E$6+$E$7+$E$8)-B35>0,B35-別表１!$B$12,($E$6+$E$7+$E$8)))) -> 0 | E35: =SUM(別表２!D20:G20) -> 0 | F35: =IF(別表１!$B$12=0,0,IF($B35<=別表１!$B$12,0,IF(別表１!$B$12+($E$6+$E$7+$E$8+$E$9)-$B35>0,$B35-別表１!$B$12,($E$6+$E$7+$E$8+$E$9)))) -> 0 | G35: =SUM(別表２!H20:M20) -> 0 | H35: =IF(別表１!$B$12=0,0,IF($B35<=別表１!$B$12,0,IF(別表１!$B$12+($E$6+$E$7+$E$9)-$B35>0,$B35-別表１!$B$12,($E$6+$E$7+$E$9)))) -> 0
... A39: 17 | B39: 92000 | C39: =SUM(別表２!B24:C24) -> 0 | D39: =IF(別表１!$B$12=0,0,IF(B39<=別表１!$B$12,0,IF(別表１!$B$12+($E$6+$E$7+$E$8)-B39>0,B39-別表１!$B$12,($E$6+$E$7+$E$8)))) -> 0 | E39: =SUM(別表２!D24:G24) -> 0 | F39: =IF(別表１!$B$12=0,0,IF($B39<=別表１!$B$12,0,IF(別表１!$B$12+($E$6+$E$7+$E$8+$E$9)-$B39>0,$B39-別表１!$B$12,($E$6+$E$7+$E$8+$E$9)))) -> 0 | G39: =SUM(別表２!H24:M24) -> 0 | H39: =IF(別表１!$B$12=0,0,IF($B39<=別表１!$B$12,0,IF(別表１!$B$12+($E$6+$E$7+$E$9)-$B39>0,$B39-別表１!$B$12,($E$6+$E$7+$E$9)))) -> 0
A40: 18 | B40: 当該施設におけるサービスの提供に要する費用の全額 | C40: =SUM(別表２!B25:C25) -> 0 | D40: =IF(別表１!$B$12=0,0,($E$6+$E$7+$E$8)) -> 0 | E40: =SUM(別表２!D25:G25) -> 0 | F40: =IF(別表１!$B$12=0,0,($E$6+$E$7+$E$8+$E$9)) -> 0 | G40: =SUM(別表２!H25:M25) -> 0 | H40: =IF(別表１!$B$12=0,0,($E$6+$E$7+$E$9)) -> 0
A41: 各期間の合計 | C41: =SUM(C22:C40) -> 0 | D41: =$C$22*$D$22+$C$23*$D$23+$C$24*$D$24+$C$25*$D$25+$C$26*$D$26+$C$27*$D$27+$C$28*$D$28+$C$29*$D$29+$C$30*$D$30+$C$31*$D$31+$C$32*$D$32+$C$33*$D$33+$C$34*$D$34+$C$35*$D$35+$C$36*$D$36+$C$37*$D$37+$C$38*$D$38+$C$39*$D$39+$C$40*$D$40 -> 0 | E41: =SUM(E22:E40) -> 0 | F41: =$E$22*$F$22+$E$23*$F$23+$E$24*$F$24+$E$25*$F$25+$E$26*$F$26+$E$27*$F$27+$E$28*$F$28+$E$29*$F$29+$E$30*$F$30+$E$31*$F$31+$E$32*$F$32+$E$33*$F$33+$E$34*$F$34+$E$35*$F$35+$E$36*$F$36+$E$37*$F$37+$E$38*$F$38+$E$39*$F$39+$E$40*$F$40 -> 0 | G41: =SUM(G22:G40) -> 0 | H41: =G22*H22+G23*H23+G24*H24+G25*H25+G26*H26+G27*H27+G28*H28+G29*H29+G30*H30+G31*H31+G32*H32+G33*H33+G34*H34+G35*H35+G36*H36+G37*H37+G38*H38+G39*H39+G40*H40 -> 0
A43: 【注意事項】
A44: 〇 処遇改善を実施する場合は、処遇改善見込総額（年額）が処遇改善総額（年額）を上回るように支給してください。（処遇改善実績額が処遇改善総額（年額）を上回らない場合、返還が発生いたしますのでご注意ください） 〇 実績報告・指導監査の際に、事務費補助金について確認いたしますので、処遇改善の支給実績が確認できるようにしてください。（給与明細に処遇改善分の金額を記載する等） 〇 各処遇改善について、下記によって求めた金額を、各施設におけるサービスの提供に要する基本額に加算します。 処遇改善額（月額）÷「対象入所者数（一般入所者数）」＝「対象入所者一人当たりの処遇改善月額（小数点切捨）」 〇介護保険制度上の処遇改善加算とは異なりますので、特定施設入居者生活介護の指定を受けている事業者については、ご注意ください。
