Workbook

Sheet R8.4
A1: 住民基本台帳人口 令和8年4月末日現在
A2: 行政区 | B2: 世帯数 | C2: 前月差 | D2: 男 | E2: 前月差 | F2: 女 | G2: 前月差 | H2: 計 | I2: 前月差 | J2: 面積 平方キロメートル
A3: 本庁 | B3: 30534 | C3: 111 | D3: 27579 | E3: 7 | F3: 31141 | G3: 6 | H3: 58720 | I3: 13 | J3: 5.38
A4: 山本 | B4: 26769 | C4: 54 | D4: 25064 | E4: 5 | F4: 28261 | G4: 25 | H4: 53325 | I4: 30 | J4: 5.59
A5: 西郡 | B5: 3223 | C5: 6 | D5: 2431 | E5: -1 | F5: 2686 | G5: 3 | H5: 5117 | I5: 2 | J5: 1.43
A6: 龍華 | B6: 18030 | C6: 29 | D6: 17376 | E6: -1 | F6: 19080 | G6: 1 | H6: 36456 | I6: 0 | J6: 3.22
A7: 竹渕 | B7: 3221 | C7: 5 | D7: 3032 | E7: 10 | F7: 3157 | G7: 0 | H7: 6189 | I7: 10 | J7: 1.17
A8: 南高安 | B8: 7724 | C8: 1 | D8: 7758 | E8: -13 | F8: 8482 | G8: -5 | H8: 16240 | I8: -18 | J8: 5.06
A9: 高安 | B9: 3610 | C9: 3 | D9: 3266 | E9: -8 | F9: 3495 | G9: 1 | H9: 6761 | I9: -7 | J9: 8.08
A10: 曙川 | B10: 11460 | C10: 12 | D10: 11547 | E10: 13 | F10: 12764 | G10: -8 | H10: 24311 | I10: 5 | J10: 2.68
A11: 志紀 | B11: 9322 | C11: -3 | D11: 8793 | E11: -34 | F11: 9283 | G11: -33 | H11: 18076 | I11: -67 | J11: 3.24
A12: 久宝寺 | B12: 5901 | C12: -2 | D12: 5790 | E12: -10 | F12: 6230 | G12: -4 | H12: 12020 | I12: -14 | J12: 1.75
A13: 大正 | B13: 9858 | C13: 19 | D13: 9917 | E13: 11 | F13: 10333 | G13: -20 | H13: 20250 | I13: -9 | J13: 4.12
A14: 合計 | B14: 129652 | C14: 235 | D14: 122553 | E14: -21 | F14: 134912 | G14: -34 | H14: 257465 | I14: -55 | J14: 41.72

Sheet R8.5
A1: 住民基本台帳人口 令和8年5月末日現在
A2: 行政区 | B2: 世帯数 | C2: 前月差 | D2: 男 | E2: 前月差 | F2: 女 | G2: 前月差 | H2: 計 | I2: 前月差 | J2: 面積 平方キロメートル
A3: 本庁 | B3: 30536 | C3: 2 | D3: 27585 | E3: 6 | F3: 31113 | G3: -28 | H3: 58698 | I3: -22 | J3: 5.38
A4: 山本 | B4: 26793 | C4: 24 | D4: 25057 | E4: -7 | F4: 28294 | G4: 33 | H4: 53351 | I4: 26 | J4: 5.59
A5: 西郡 | B5: 3215 | C5: -8 | D5: 2423 | E5: -8 | F5: 2682 | G5: -4 | H5: 5105 | I5: -12 | J5: 1.43
A6: 龍華 | B6: 18050 | C6: 20 | D6: 17390 | E6: 14 | F6: 19075 | G6: -5 | H6: 36465 | I6: 9 | J6: 3.22
A7: 竹渕 | B7: 3224 | C7: 3 | D7: 3032 | E7: 0 | F7: 3155 | G7: -2 | H7: 6187 | I7: -2 | J7: 1.17
A8: 南高安 | B8: 7727 | C8: 3 | D8: 7754 | E8: -4 | F8: 8476 | G8: -6 | H8: 16230 | I8: -10 | J8: 5.06
A9: 高安 | B9: 3610 | C9: 0 | D9: 3260 | E9: -6 | F9: 3484 | G9: -11 | H9: 6744 | I9: -17 | J9: 8.08
A10: 曙川 | B10: 11459 | C10: -1 | D10: 11533 | E10: -14 | F10: 12758 | G10: -6 | H10: 24291 | I10: -20 | J10: 2.68
A11: 志紀 | B11: 9317 | C11: -5 | D11: 8781 | E11: -12 | F11: 9265 | G11: -18 | H11: 18046 | I11: -30 | J11: 3.24
A12: 久宝寺 | B12: 5900 | C12: -1 | D12: 5792 | E12: 2 | F12: 6230 | G12: 0 | H12: 12022 | I12: 2 | J12: 1.75
A13: 大正 | B13: 9846 | C13: -12 | D13: 9903 | E13: -14 | F13: 10319 | G13: -14 | H13: 20222 | I13: -28 | J13: 4.12
A14: 合計 | B14: 129677 | C14: 25 | D14: 122510 | E14: -43 | F14: 134851 | G14: -61 | H14: 257361 | I14: -104 | J14: 41.72

Sheet R8.6
A1: 住民基本台帳人口 令和8年6月末日現在
A2: 行政区 | B2: 世帯数 | C2: 前月差 | D2: 男 | E2: 前月差 | F2: 女 | G2: 前月差 | H2: 計 | I2: 前月差 | J2: 面積 平方キロメートル
A3: 本庁 | B3: 30553 | C3: =B3-'R8.5'!B3 -> 17 | D3: 27595 | E3: =D3-'R8.5'!D3 -> 10 | F3: 31103 | G3: =F3-'R8.5'!F3 -> -10 | H3: 58698 | I3: =H3-'R8.5'!H3 -> 0 | J3: 5.38
A4: 山本 | B4: 26805 | C4: =B4-'R8.5'!B4 -> 12 | D4: 25048 | E4: =D4-'R8.5'!D4 -> -9 | F4: 28292 | G4: =F4-'R8.5'!F4 -> -2 | H4: 53340 | I4: =H4-'R8.5'!H4 -> -11 | J4: 5.59
A5: 西郡 | B5: 3216 | C5: =B5-'R8.5'!B5 -> 1 | D5: 2422 | E5: =D5-'R8.5'!D5 -> -1 | F5: 2677 | G5: =F5-'R8.5'!F5 -> -5 | H5: 5099 | I5: =H5-'R8.5'!H5 -> -6 | J5: 1.43
A6: 龍華 | B6: 18021 | C6: =B6-'R8.5'!B6 -> -29 | D6: 17363 | E6: =D6-'R8.5'!D6 -> -27 | F6: 19067 | G6: =F6-'R8.5'!F6 -> -8 | H6: 36430 | I6: =H6-'R8.5'!H6 -> -35 | J6: 3.22
A7: 竹渕 | B7: 3242 | C7: =B7-'R8.5'!B7 -> 18 | D7: 3037 | E7: =D7-'R8.5'!D7 -> 5 | F7: 3164 | G7: =F7-'R8.5'!F7 -> 9 | H7: 6201 | I7: =H7-'R8.5'!H7 -> 14 | J7: 1.17
A8: 南高安 | B8: 7735 | C8: =B8-'R8.5'!B8 -> 8 | D8: 7749 | E8: =D8-'R8.5'!D8 -> -5 | F8: 8453 | G8: =F8-'R8.5'!F8 -> -23 | H8: 16202 | I8: =H8-'R8.5'!H8 -> -28 | J8: 5.06
A9: 高安 | B9: 3607 | C9: =B9-'R8.5'!B9 -> -3 | D9: 3249 | E9: =D9-'R8.5'!D9 -> -11 | F9: 3479 | G9: =F9-'R8.5'!F9 -> -5 | H9: 6728 | I9: =H9-'R8.5'!H9 -> -16 | J9: 8.08
A10: 曙川 | B10: 11464 | C10: =B10-'R8.5'!B10 -> 5 | D10: 11530 | E10: =D10-'R8.5'!D10 -> -3 | F10: 12752 | G10: =F10-'R8.5'!F10 -> -6 | H10: 24282 | I10: =H10-'R8.5'!H10 -> -9 | J10: 2.68
A11: 志紀 | B11: 9337 | C11: =B11-'R8.5'!B11 -> 20 | D11: 8779 | E11: =D11-'R8.5'!D11 -> -2 | F11: 9277 | G11: =F11-'R8.5'!F11 -> 12 | H11: 18056 | I11: =H11-'R8.5'!H11 -> 10 | J11: 3.24
A12: 久宝寺 | B12: 5930 | C12: =B12-'R8.5'!B12 -> 30 | D12: 5821 | E12: =D12-'R8.5'!D12 -> 29 | F12: 6245 | G12: =F12-'R8.5'!F12 -> 15 | H12: 12066 | I12: =H12-'R8.5'!H12 -> 44 | J12: 1.75
A13: 大正 | B13: 9847 | C13: =B13-'R8.5'!B13 -> 1 | D13: 9894 | E13: =D13-'R8.5'!D13 -> -9 | F13: 10300 | G13: =F13-'R8.5'!F13 -> -19 | H13: 20194 | I13: =H13-'R8.5'!H13 -> -28 | J13: 4.12
A14: 合計 | B14: 129757 | C14: =B14-'R8.5'!B14 -> 80 | D14: 122487 | E14: =D14-'R8.5'!D14 -> -23 | F14: 134809 | G14: =F14-'R8.5'!F14 -> -42 | H14: 257296 | I14: =H14-'R8.5'!H14 -> -65 | J14: 41.72

Sheet R8.7
A1: 住民基本台帳人口 令和8年7月末日現在
A2: 行政区 | B2: 世帯数 | C2: 前月差 | D2: 男 | E2: 前月差 | F2: 女 | G2: 前月差 | H2: 計 | I2: 前月差 | J2: 面積 平方キロメートル
A3: 本庁 | B3: 30559 | C3: =B3-'R8.6'!B3 -> 6 | D3: 27613 | E3: =D3-'R8.6'!D3 -> 18 | F3: 31084 | G3: =F3-'R8.6'!F3 -> -19 | H3: 58697 | I3: =H3-'R8.6'!H3 -> -1 | J3: 5.38
A4: 山本 | B4: 26825 | C4: =B4-'R8.6'!B4 -> 20 | D4: 25040 | E4: =D4-'R8.6'!D4 -> -8 | F4: 28300 | G4: =F4-'R8.6'!F4 -> 8 | H4: 53340 | I4: =H4-'R8.6'!H4 -> 0 | J4: 5.59
A5: 西郡 | B5: 3212 | C5: =B5-'R8.6'!B5 -> -4 | D5: 2426 | E5: =D5-'R8.6'!D5 -> 4 | F5: 2665 | G5: =F5-'R8.6'!F5 -> -12 | H5: 5091 | I5: =H5-'R8.6'!H5 -> -8 | J5: 1.43
A6: 龍華 | B6: 18015 | C6: =B6-'R8.6'!B6 -> -6 | D6: 17355 | E6: =D6-'R8.6'!D6 -> -8 | F6: 19084 | G6: =F6-'R8.6'!F6 -> 17 | H6: 36439 | I6: =H6-'R8.6'!H6 -> 9 | J6: 3.22
A7: 竹渕 | B7: 3252 | C7: =B7-'R8.6'!B7 -> 10 | D7: 3039 | E7: =D7-'R8.6'!D7 -> 2 | F7: 3176 | G7: =F7-'R8.6'!F7 -> 12 | H7: 6215 | I7: =H7-'R8.6'!H7 -> 14 | J7: 1.17
A8: 南高安 | B8: 7722 | C8: =B8-'R8.6'!B8 -> -13 | D8: 7747 | E8: =D8-'R8.6'!D8 -> -2 | F8: 8446 | G8: =F8-'R8.6'!F8 -> -7 | H8: 16193 | I8: =H8-'R8.6'!H8 -> -9 | J8: 5.06
A9: 高安 | B9: 3601 | C9: =B9-'R8.6'!B9 -> -6 | D9: 3242 | E9: =D9-'R8.6'!D9 -> -7 | F9: 3477 | G9: =F9-'R8.6'!F9 -> -2 | H9: 6719 | I9: =H9-'R8.6'!H9 -> -9 | J9: 8.08
A10: 曙川 | B10: 11475 | C10: =B10-'R8.6'!B10 -> 11 | D10: 11525 | E10: =D10-'R8.6'!D10 -> -5 | F10: 12751 | G10: =F10-'R8.6'!F10 -> -1 | H10: 24276 | I10: =H10-'R8.6'!H10 -> -6 | J10: 2.68
A11: 志紀 | B11: 9388 | C11: =B11-'R8.6'!B11 -> 51 | D11: 8810 | E11: =D11-'R8.6'!D11 -> 31 | F11: 9307 | G11: =F11-'R8.6'!F11 -> 30 | H11: 18117 | I11: =H11-'R8.6'!H11 -> 61 | J11: 3.24
A12: 久宝寺 | B12: 5934 | C12: =B12-'R8.6'!B12 -> 4 | D12: 5821 | E12: =D12-'R8.6'!D12 -> 0 | F12: 6243 | G12: =F12-'R8.6'!F12 -> -2 | H12: 12064 | I12: =H12-'R8.6'!H12 -> -2 | J12: 1.75
A13: 大正 | B13: 9850 | C13: =B13-'R8.6'!B13 -> 3 | D13: 9896 | E13: =D13-'R8.6'!D13 -> 2 | F13: 10287 | G13: =F13-'R8.6'!F13 -> -13 | H13: 20183 | I13: =H13-'R8.6'!H13 -> -11 | J13: 4.12
A14: 合計 | B14: =SUM(B3:B13) -> 129833 | C14: =B14-'R8.6'!B14 -> 76 | D14: 122514 | E14: =D14-'R8.6'!D14 -> 27 | F14: 134820 | G14: =F14-'R8.6'!F14 -> 11 | H14: 257334 | I14: =H14-'R8.6'!H14 -> 38 | J14: 41.72

Sheet R8.8
A1: 住民基本台帳人口 令和8年8月末日現在
A2: 行政区 | B2: 世帯数 | C2: 前月差 | D2: 男 | E2: 前月差 | F2: 女 | G2: 前月差 | H2: 計 | I2: 前月差 | J2: 面積 平方キロメートル
A3: 本庁 | B3: 30554 | C3: =B3-'R8.7'!B3 -> -5 | D3: 27603 | E3: =D3-'R8.7'!D3 -> -10 | F3: 31057 | G3: =F3-'R8.7'!F3 -> -27 | H3: 58660 | I3: =H3-'R8.7'!H3 -> -37 | J3: 5.38
A4: 山本 | B4: 26818 | C4: =B4-'R8.7'!B4 -> -7 | D4: 25036 | E4: =D4-'R8.7'!D4 -> -4 | F4: 28275 | G4: =F4-'R8.7'!F4 -> -25 | H4: 53311 | I4: =H4-'R8.7'!H4 -> -29 | J4: 5.59
A5: 西郡 | B5: 3204 | C5: =B5-'R8.7'!B5 -> -8 | D5: 2420 | E5: =D5-'R8.7'!D5 -> -6 | F5: 2658 | G5: =F5-'R8.7'!F5 -> -7 | H5: 5078 | I5: =H5-'R8.7'!H5 -> -13 | J5: 1.43
A6: 龍華 | B6: 18017 | C6: =B6-'R8.7'!B6 -> 2 | D6: 17363 | E6: =D6-'R8.7'!D6 -> 8 | F6: 19066 | G6: =F6-'R8.7'!F6 -> -18 | H6: 36429 | I6: =H6-'R8.7'!H6 -> -10 | J6: 3.22
A7: 竹渕 | B7: 3238 | C7: =B7-'R8.7'!B7 -> -14 | D7: 3024 | E7: =D7-'R8.7'!D7 -> -15 | F7: 3159 | G7: =F7-'R8.7'!F7 -> -17 | H7: 6183 | I7: =H7-'R8.7'!H7 -> -32 | J7: 1.17
A8: 南高安 | B8: 7734 | C8: =B8-'R8.7'!B8 -> 12 | D8: 7757 | E8: =D8-'R8.7'!D8 -> 10 | F8: 8449 | G8: =F8-'R8.7'!F8 -> 3 | H8: 16206 | I8: =H8-'R8.7'!H8 -> 13 | J8: 5.06
A9: 高安 | B9: 3607 | C9: =B9-'R8.7'!B9 -> 6 | D9: 3242 | E9: =D9-'R8.7'!D9 -> 0 | F9: 3477 | G9: =F9-'R8.7'!F9 -> 0 | H9: 6719 | I9: =H9-'R8.7'!H9 -> 0 | J9: 8.08
A10: 曙川 | B10: 11470 | C10: =B10-'R8.7'!B10 -> -5 | D10: 11517 | E10: =D10-'R8.7'!D10 -> -8 | F10: 12749 | G10: =F10-'R8.7'!F10 -> -2 | H10: 24266 | I10: =H10-'R8.7'!H10 -> -10 | J10: 2.68
A11: 志紀 | B11: 9380 | C11: =B11-'R8.7'!B11 -> -8 | D11: 8799 | E11: =D11-'R8.7'!D11 -> -11 | F11: 9300 | G11: =F11-'R8.7'!F11 -> -7 | H11: 18099 | I11: =H11-'R8.7'!H11 -> -18 | J11: 3.24
A12: 久宝寺 | B12: 5940 | C12: =B12-'R8.7'!B12 -> 6 | D12: 5808 | E12: =D12-'R8.7'!D12 -> -13 | F12: 6248 | G12: =F12-'R8.7'!F12 -> 5 | H12: 12056 | I12: =H12-'R8.7'!H12 -> -8 | J12: 1.75
A13: 大正 | B13: 9830 | C13: =B13-'R8.7'!B13 -> -20 | D13: 9871 | E13: =D13-'R8.7'!D13 -> -25 | F13: 10257 | G13: =F13-'R8.7'!F13 -> -30 | H13: 20128 | I13: =H13-'R8.7'!H13 -> -55 | J13: 4.12
A14: 合計 | B14: 129792 | C14: =B14-'R8.7'!B14 -> -41 | D14: 122440 | E14: =D14-'R8.7'!D14 -> -74 | F14: 134695 | G14: =F14-'R8.7'!F14 -> -125 | H14: 257135 | I14: =H14-'R8.7'!H14 -> -199 | J14: 41.72

Sheet R8.9
A1: 住民基本台帳人口 令和８年９月末日現在
A2: 行政区 | B2: 世帯数 | C2: 前月差 | D2: 男 | E2: 前月差 | F2: 女 | G2: 前月差 | H2: 計 | I2: 前月差 | J2: 面積 平方キロメートル
A3: 本庁 | B3: 30561 | C3: =B3-'R8.8'!B3 -> 7 | D3: 27597 | E3: =D3-'R8.8'!D3 -> -6 | F3: 31039 | G3: =F3-'R8.8'!F3 -> -18 | H3: 58636 | I3: =H3-'R8.8'!H3 -> -24 | J3: 5.38
A4: 山本 | B4: 26834 | C4: =B4-'R8.8'!B4 -> 16 | D4: 25050 | E4: =D4-'R8.8'!D4 -> 14 | F4: 28271 | G4: =F4-'R8.8'!F4 -> -4 | H4: 53321 | I4: =H4-'R8.8'!H4 -> 10 | J4: 5.59
A5: 西郡 | B5: 3204 | C5: =B5-'R8.8'!B5 -> 0 | D5: 2425 | E5: =D5-'R8.8'!D5 -> 5 | F5: 2657 | G5: =F5-'R8.8'!F5 -> -1 | H5: 5082 | I5: =H5-'R8.8'!H5 -> 4 | J5: 1.43
A6: 龍華 | B6: 18012 | C6: =B6-'R8.8'!B6 -> -5 | D6: 17369 | E6: =D6-'R8.8'!D6 -> 6 | F6: 19063 | G6: =F6-'R8.8'!F6 -> -3 | H6: 36432 | I6: =H6-'R8.8'!H6 -> 3 | J6: 3.22
A7: 竹渕 | B7: 3240 | C7: =B7-'R8.8'!B7 -> 2 | D7: 3028 | E7: =D7-'R8.8'!D7 -> 4 | F7: 3152 | G7: =F7-'R8.8'!F7 -> -7 | H7: 6180 | I7: =H7-'R8.8'!H7 -> -3 | J7: 1.17
A8: 南高安 | B8: 7738 | C8: =B8-'R8.8'!B8 -> 4 | D8: 7741 | E8: =D8-'R8.8'!D8 -> -16 | F8: 8446 | G8: =F8-'R8.8'!F8 -> -3 | H8: 16187 | I8: =H8-'R8.8'!H8 -> -19 | J8: 5.06
A9: 高安 | B9: 3607 | C9: =B9-'R8.8'!B9 -> 0 | D9: 3238 | E9: =D9-'R8.8'!D9 -> -4 | F9: 3473 | G9: =F9-'R8.8'!F9 -> -4 | H9: 6711 | I9: =H9-'R8.8'!H9 -> -8 | J9: 8.08
A10: 曙川 | B10: 11462 | C10: =B10-'R8.8'!B10 -> -8 | D10: 11509 | E10: =D10-'R8.8'!D10 -> -8 | F10: 12731 | G10: =F10-'R8.8'!F10 -> -18 | H10: 24240 | I10: =H10-'R8.8'!H10 -> -26 | J10: 2.68
A11: 志紀 | B11: 9371 | C11: =B11-'R8.8'!B11 -> -9 | D11: 8784 | E11: =D11-'R8.8'!D11 -> -15 | F11: 9290 | G11: =F11-'R8.8'!F11 -> -10 | H11: 18074 | I11: =H11-'R8.8'!H11 -> -25 | J11: 3.24
A12: 久宝寺 | B12: 5938 | C12: =B12-'R8.8'!B12 -> -2 | D12: 5805 | E12: =D12-'R8.8'!D12 -> -3 | F12: 6247 | G12: =F12-'R8.8'!F12 -> -1 | H12: 12052 | I12: =H12-'R8.8'!H12 -> -4 | J12: 1.75
A13: 大正 | B13: 9832 | C13: =B13-'R8.8'!B13 -> 2 | D13: 9866 | E13: =D13-'R8.8'!D13 -> -5 | F13: 10254 | G13: =F13-'R8.8'!F13 -> -3 | H13: 20120 | I13: =H13-'R8.8'!H13 -> -8 | J13: 4.12
A14: 合計 | B14: 129799 | C14: =B14-'R8.8'!B14 -> 7 | D14: 122412 | E14: =D14-'R8.8'!D14 -> -28 | F14: 134623 | G14: =F14-'R8.8'!F14 -> -72 | H14: 257035 | I14: =H14-'R8.8'!H14 -> -100 | J14: 41.72
